BEGIN:VCALENDAR
VERSION:2.0
PRODID:icalendar-ruby
CALSCALE:GREGORIAN
METHOD:PUBLISH
BEGIN:VEVENT
DTSTAMP:20260421T115509Z
UID:146-45829@kingsway.church
DTSTART:20260629T220000Z
DTEND:20260702T003000Z
CLASS:PUBLIC
CREATED:20260420T165504
DESCRIPTION:\nA free\, three-day experience for children currently (2025/20
 26 school year) in Kindergarten through 6th grade in both our Cherry Hill 
 and Washington Township Campuses. Each day is filled with powerful worship
 \, engaging Bible stories\, and fun activities designed to help kids know 
 God in a real and unforgettable way.\nMonday June 29\, 2026 (6:00–8:30pm
 )\nTuesday June 30\, 2026 (6:00–8:30pm)\nWednesday July 1\, 2026 (6:00
 –8:30pm)\n
LAST-MODIFIED:20260420T165504
LOCATION:
SUMMARY:Summer Blast 2026
URL;VALUE=URI:https://www.kingsway.church/events/summer-blast-2026/2026-06-
 29
ATTACH;FILENAME=Summer-Blast-2026_Web-Banner.png;FMTTYPE=image/png:https://
 dq5pwpg1q8ru0.cloudfront.net/2026/04/20/16/10/52/983865e7-b5a3-4274-b4fc-e
 18f15b8ebab/Summer-Blast-2026_Web-Banner.png
END:VEVENT
END:VCALENDAR
